BEGIN:VCALENDAR
PRODID:-//AT Content Types//AT Event//EN
VERSION:2.0
METHOD:PUBLISH
BEGIN:VEVENT
DTSTAMP:20260426T011920Z
CREATED:20260405T134429Z
UID:ATEvent-029af9672d2cdde781bec30f3e11b46b
LAST-MODIFIED:20260406T124423Z
SUMMARY:Cazarea participanților
DTSTART:20201230T220000Z
DTEND:20201230T220000Z
DESCRIPTION:Cazare și masă  - campus Universitatea „Vasile Alecsan
 dri” din Bacău\, str\, Mărășești\, nr. 157\nEchipajele sunt aș
 teptate la gară și autogară de profesori (rsponsabili) de lot din B
 acău\, iar echipajele care ajung cu mijloacele de transport propriu a
 u acces în curtea universității.
LOCATION:Univeristatea „Vasile Alecsandri” din Bacău
CLASS:PUBLIC
END:VEVENT
END:VCALENDAR
